BEGIN:VCALENDAR
VERSION:2.0
PRODID:-//ETX ADAM - ECPv6.15.20//NONSGML v1.0//EN
CALSCALE:GREGORIAN
METHOD:PUBLISH
X-ORIGINAL-URL:https://etxadam.org
X-WR-CALDESC:Events for ETX ADAM
REFRESH-INTERVAL;VALUE=DURATION:PT1H
X-Robots-Tag:noindex
X-PUBLISHED-TTL:PT1H
BEGIN:VTIMEZONE
TZID:UTC
BEGIN:STANDARD
TZOFFSETFROM:+0000
TZOFFSETTO:+0000
TZNAME:UTC
DTSTART:20210101T000000
END:STANDARD
END:VTIMEZONE
BEGIN:VEVENT
DTSTART;TZID=UTC:20221207T113000
DTEND;TZID=UTC:20221207T130000
DTSTAMP:20260425T003151
CREATED:20220603T160441Z
LAST-MODIFIED:20220831T213634Z
UID:3468-1670412600-1670418000@etxadam.org
SUMMARY:December Luncheon - Phil C. DeLozier- EnerVest\, Ltd.
DESCRIPTION:
URL:https://etxadam.org/event/december-luncheon-speaker/
LOCATION:Willow Brook Country Club\, Tyler TX
END:VEVENT
BEGIN:VEVENT
DTSTART;TZID=UTC:20221107T120000
DTEND;TZID=UTC:20221107T180000
DTSTAMP:20260425T003151
CREATED:20220603T160150Z
LAST-MODIFIED:20221016T224212Z
UID:3464-1667822400-1667844000@etxadam.org
SUMMARY:Annual ETX ADAM Golf Tournament
DESCRIPTION:Proceeds from the tournament shall benefit the East Texas Food Bank
URL:https://etxadam.org/event/golf-tournament/
LOCATION:Willow Brook Country Club\, Tyler TX
END:VEVENT
BEGIN:VEVENT
DTSTART;TZID=UTC:20221005T113000
DTEND;TZID=UTC:20221005T130000
DTSTAMP:20260425T003151
CREATED:20220603T160334Z
LAST-MODIFIED:20220926T172824Z
UID:3466-1664969400-1664974800@etxadam.org
SUMMARY:October Luncheon w/ Pat O'Bryan & Darren Groce from R Lacy
DESCRIPTION:
URL:https://etxadam.org/event/october-luncheon-speaker-r-lacy/
LOCATION:Willow Brook Country Club\, Tyler TX
END:VEVENT
BEGIN:VEVENT
DTSTART;TZID=UTC:20220907T113000
DTEND;TZID=UTC:20220907T130000
DTSTAMP:20260425T003151
CREATED:20220603T155853Z
LAST-MODIFIED:20220831T212848Z
UID:3462-1662550200-1662555600@etxadam.org
SUMMARY:September Luncheon - Jared Champlin - Roaring Fork Energy
DESCRIPTION:
URL:https://etxadam.org/event/september-luncheon-speaker-tbd/
LOCATION:Willow Brook Country Club\, Tyler TX
END:VEVENT
BEGIN:VEVENT
DTSTART;TZID=UTC:20220720T170000
DTEND;TZID=UTC:20220720T183000
DTSTAMP:20260425T003151
CREATED:20220603T155702Z
LAST-MODIFIED:20220708T125959Z
UID:3460-1658336400-1658341800@etxadam.org
SUMMARY:After work social
DESCRIPTION:
URL:https://etxadam.org/event/after-work-happy-hour-tbd/
LOCATION:Willow Brook Country Club\, Tyler TX
END:VEVENT
BEGIN:VEVENT
DTSTART;TZID=UTC:20220504T113000
DTEND;TZID=UTC:20220504T130000
DTSTAMP:20260425T003151
CREATED:20220421T150450Z
LAST-MODIFIED:20220421T150450Z
UID:3447-1651663800-1651669200@etxadam.org
SUMMARY:May 4th lunch with Elliott Kruppa from Sabine
DESCRIPTION:Join us on May 4th with Elliott Kruppa from Sabine
URL:https://etxadam.org/event/etx-adam-lunch-speaker-lunch-may-4th/
LOCATION:Willow Brook Country Club\, Tyler TX
ORGANIZER;CN="Chad Rowan":MAILTO:ETXadam1@gmail.com
END:VEVENT
BEGIN:VEVENT
DTSTART;TZID=UTC:20220406T113000
DTEND;TZID=UTC:20220406T130000
DTSTAMP:20260425T003151
CREATED:20220224T174224Z
LAST-MODIFIED:20220324T133207Z
UID:3431-1649244600-1649250000@etxadam.org
SUMMARY:April 6th Luncheon with Texas Comptroller Glenn Hegar
DESCRIPTION:Join us for lunch on Wednesday April 6th at 11:30am at Willow Brook CC in Tyler. Our speaker will be Texas Comptroller Glenn Hegar. \nMr. Hegar will be giving the ADAM group an update on the Texas economy as well as discussing challenges\, revenues\, and economic growth heading into the 88th session. \nMr. Hegar serves as the Treasurer and Chief Financial Officer of the world’s 9th largest economy as he is charged with maintaining the state’s fiscal health.  Having served both the Texas House and Senate\, Mr. Hegar has gained a reputation for customer service\, transparency in government\, and conservative fiscal management. \nPlease make your reservation by sending an email to rachel@blueriveroil.com or calling Rachel at 972 744-0455. \nBring a guest and introduce new prospective members for a $30 fee payable onsite or through the website. \n  \n 
URL:https://etxadam.org/event/etx-adam-luncheon-april-6-2022/
LOCATION:Willow Brook CC\, Tyler Texas
ORGANIZER;CN="Chad Rowan":MAILTO:ETXadam1@gmail.com
END:VEVENT
BEGIN:VEVENT
DTSTART;TZID=UTC:20220223T173000
DTEND;TZID=UTC:20220223T190000
DTSTAMP:20260425T003151
CREATED:20210208T145104Z
LAST-MODIFIED:20220201T164310Z
UID:3220-1645637400-1645642800@etxadam.org
SUMMARY:ETX ADAM Happy Hour - February 23rd\, 2022
DESCRIPTION:ETX ADAM Happy Hour \nFebruary 23rd\, 2022 \n5:30 pm – 7:00 pm \nAt: \nWillow Brook CC \nTyler\, Texas \n  \n 
URL:https://etxadam.org/event/etx-adam-happy-hour-february-23-2022/
LOCATION:Willow Brook Country Club\, Tyler TX
ORGANIZER;CN="Chad Rowan":MAILTO:ETXadam1@gmail.com
END:VEVENT
BEGIN:VEVENT
DTSTART;TZID=UTC:20220203T173000
DTEND;TZID=UTC:20220203T190000
DTSTAMP:20260425T003151
CREATED:20210526T200947Z
LAST-MODIFIED:20220201T190848Z
UID:3289-1643909400-1643914800@etxadam.org
SUMMARY:**Rescheduled to Feb 23rd**
DESCRIPTION:Happy hour at Willow Brook CC in Tyler Rescheduled for 02/23/2022
URL:https://etxadam.org/event/etx-adam-happyhour-feb-3-2022/
END:VEVENT
END:VCALENDAR