BEGIN:VCALENDAR
VERSION:2.0
PRODID:-//ETX ADAM - ECPv6.15.20//NONSGML v1.0//EN
CALSCALE:GREGORIAN
METHOD:PUBLISH
X-ORIGINAL-URL:https://etxadam.org
X-WR-CALDESC:Events for ETX ADAM
REFRESH-INTERVAL;VALUE=DURATION:PT1H
X-Robots-Tag:noindex
X-PUBLISHED-TTL:PT1H
BEGIN:VTIMEZONE
TZID:UTC
BEGIN:STANDARD
TZOFFSETFROM:+0000
TZOFFSETTO:+0000
TZNAME:UTC
DTSTART:20210101T000000
END:STANDARD
END:VTIMEZONE
BEGIN:VEVENT
DTSTART;TZID=UTC:20250910T113000
DTEND;TZID=UTC:20250910T130000
DTSTAMP:20260425T105251
CREATED:20240222T170600Z
LAST-MODIFIED:20250829T170401Z
UID:3913-1757503800-1757509200@etxadam.org
SUMMARY:September 10th luncheon  - Rob Quigley of VSO Petroleum Consultants
DESCRIPTION:
URL:https://etxadam.org/event/september-10th-luncheon-speaker-tbd/
LOCATION:Willow Brook CC\, Tyler Texas
END:VEVENT
BEGIN:VEVENT
DTSTART;TZID=UTC:20241106T113000
DTEND;TZID=UTC:20241106T130000
DTSTAMP:20260425T105251
CREATED:20230504T201847Z
LAST-MODIFIED:20241107T182042Z
UID:3729-1730892600-1730898000@etxadam.org
SUMMARY:November 6th Luncheon - Justin Ott\, OTA Environmental
DESCRIPTION:
URL:https://etxadam.org/event/november-5th-luncheon-speaker-tbd/
LOCATION:Willow Brook CC\, Tyler Texas
END:VEVENT
BEGIN:VEVENT
DTSTART;TZID=UTC:20230503T110000
DTEND;TZID=UTC:20230503T110000
DTSTAMP:20260425T105251
CREATED:20230503T113031Z
LAST-MODIFIED:20230426T161146Z
UID:3595-1683111600-1683111600@etxadam.org
SUMMARY:May Luncheon w/ Dan George\, President of Faulconer Energy
DESCRIPTION:
URL:https://etxadam.org/event/may-luncheon/
LOCATION:Willow Brook CC\, Tyler Texas
END:VEVENT
BEGIN:VEVENT
DTSTART;TZID=UTC:20230412T113000
DTEND;TZID=UTC:20230412T130000
DTSTAMP:20260425T105251
CREATED:20221208T153849Z
LAST-MODIFIED:20230221T175734Z
UID:3593-1681299000-1681304400@etxadam.org
SUMMARY:April Luncheon w/ Steven Cobb of Pearl Energy Investments
DESCRIPTION:
URL:https://etxadam.org/event/april-luncheon/
LOCATION:Willow Brook CC\, Tyler Texas
END:VEVENT
BEGIN:VEVENT
DTSTART;TZID=UTC:20230301T113000
DTEND;TZID=UTC:20230301T130000
DTSTAMP:20260425T105251
CREATED:20221208T153810Z
LAST-MODIFIED:20221208T153810Z
UID:3591-1677670200-1677675600@etxadam.org
SUMMARY:March Luncheon
DESCRIPTION:
URL:https://etxadam.org/event/march-luncheon/
LOCATION:Willow Brook CC\, Tyler Texas
END:VEVENT
BEGIN:VEVENT
DTSTART;TZID=UTC:20230208T113000
DTEND;TZID=UTC:20230208T130000
DTSTAMP:20260425T105251
CREATED:20221208T153731Z
LAST-MODIFIED:20230116T191722Z
UID:3589-1675855800-1675861200@etxadam.org
SUMMARY:February Luncheon
DESCRIPTION:reservation\n                             \n							"*" indicates required fields \n                        \n                        Name*Company NameEmail*\n                            \n                        April 1st Luncheon with Jake Plunk of US Energy Development Corp.April 1st Luncheon with Jake Plunk of US Energy Development Corp.Location: Willow Brook Country Club\,\n3205 W Erwin St\, Tyler\, TX\n\nTime:  11:30am to 1:00pm\n\nPay Guest Fees with CC within the Yrly Dues/Fees section or bring a check/cash to the meeting.Guest Email #1\n                            \n                        Guest Name # 2Guest Name # 3Guest Email #4\n                            \n                        \n          \n            \n            \n            \n            \n            \n            \n            \n            \n            \n            \n            \n            \n            \n        \n                        Δ
URL:https://etxadam.org/event/february-luncheon/
LOCATION:Willow Brook CC\, Tyler Texas
END:VEVENT
BEGIN:VEVENT
DTSTART;TZID=UTC:20230112T170000
DTEND;TZID=UTC:20230112T190000
DTSTAMP:20260425T105251
CREATED:20221208T153643Z
LAST-MODIFIED:20221208T153643Z
UID:3587-1673542800-1673550000@etxadam.org
SUMMARY:After Work Social
DESCRIPTION:
URL:https://etxadam.org/event/after-work-social/
LOCATION:Willow Brook CC\, Tyler Texas
END:VEVENT
BEGIN:VEVENT
DTSTART;TZID=UTC:20220406T113000
DTEND;TZID=UTC:20220406T130000
DTSTAMP:20260425T105251
CREATED:20220224T174224Z
LAST-MODIFIED:20220324T133207Z
UID:3431-1649244600-1649250000@etxadam.org
SUMMARY:April 6th Luncheon with Texas Comptroller Glenn Hegar
DESCRIPTION:Join us for lunch on Wednesday April 6th at 11:30am at Willow Brook CC in Tyler. Our speaker will be Texas Comptroller Glenn Hegar. \nMr. Hegar will be giving the ADAM group an update on the Texas economy as well as discussing challenges\, revenues\, and economic growth heading into the 88th session. \nMr. Hegar serves as the Treasurer and Chief Financial Officer of the world’s 9th largest economy as he is charged with maintaining the state’s fiscal health.  Having served both the Texas House and Senate\, Mr. Hegar has gained a reputation for customer service\, transparency in government\, and conservative fiscal management. \nPlease make your reservation by sending an email to rachel@blueriveroil.com or calling Rachel at 972 744-0455. \nBring a guest and introduce new prospective members for a $30 fee payable onsite or through the website. \n  \n 
URL:https://etxadam.org/event/etx-adam-luncheon-april-6-2022/
LOCATION:Willow Brook CC\, Tyler Texas
ORGANIZER;CN="Chad Rowan":MAILTO:ETXadam1@gmail.com
END:VEVENT
END:VCALENDAR